BEGIN:VCALENDAR
VERSION:2.0
PRODID:-//SETA - ECPv6.13.1//NONSGML v1.0//EN
CALSCALE:GREGORIAN
METHOD:PUBLISH
X-ORIGINAL-URL:https://seta.edu.au
X-WR-CALDESC:Events for SETA
REFRESH-INTERVAL;VALUE=DURATION:PT1H
X-Robots-Tag:noindex
X-PUBLISHED-TTL:PT1H
BEGIN:VTIMEZONE
TZID:Australia/Melbourne
BEGIN:STANDARD
TZOFFSETFROM:+1100
TZOFFSETTO:+1000
TZNAME:AEST
DTSTART:20190406T160000
END:STANDARD
BEGIN:DAYLIGHT
TZOFFSETFROM:+1000
TZOFFSETTO:+1100
TZNAME:AEDT
DTSTART:20191005T160000
END:DAYLIGHT
END:VTIMEZONE
BEGIN:VEVENT
DTSTART;VALUE=DATE:20191127
DTEND;VALUE=DATE:20191130
DTSTAMP:20260426T034424
CREATED:20190916T000251Z
LAST-MODIFIED:20190916T000251Z
UID:456-1574812800-1575071999@seta.edu.au
SUMMARY:LABCON
DESCRIPTION:LABCON  2019  November 27-November 29\n\nhttps://ltav.org.au/labcon/
URL:https://seta.edu.au/event/labcon/
LOCATION:Victoria
CATEGORIES:Conferences,Laboratory Technicians
END:VEVENT
END:VCALENDAR