BEGIN:VCALENDAR
VERSION:2.0
PRODID:-//SETA - ECPv6.13.1//NONSGML v1.0//EN
CALSCALE:GREGORIAN
METHOD:PUBLISH
X-ORIGINAL-URL:https://seta.edu.au
X-WR-CALDESC:Events for SETA
REFRESH-INTERVAL;VALUE=DURATION:PT1H
X-Robots-Tag:noindex
X-PUBLISHED-TTL:PT1H
BEGIN:VTIMEZONE
TZID:Australia/Melbourne
BEGIN:STANDARD
TZOFFSETFROM:+1100
TZOFFSETTO:+1000
TZNAME:AEST
DTSTART:20230401T160000
END:STANDARD
BEGIN:DAYLIGHT
TZOFFSETFROM:+1000
TZOFFSETTO:+1100
TZNAME:AEDT
DTSTART:20230930T160000
END:DAYLIGHT
END:VTIMEZONE
BEGIN:VEVENT
DTSTART;VALUE=DATE:20230405
DTEND;VALUE=DATE:20230406
DTSTAMP:20260424T000300
CREATED:20221128T032818Z
LAST-MODIFIED:20221128T032818Z
UID:637-1680652800-1680739199@seta.edu.au
SUMMARY:LABNETWEST PD Days
DESCRIPTION:At STAWA’s Future Science
URL:https://seta.edu.au/event/labnetwest-pd-days-20230405/
LOCATION:Victoria
CATEGORIES:Conferences,PDs
END:VEVENT
END:VCALENDAR