BEGIN:VCALENDAR
VERSION:2.0
PRODID:-//SETA - ECPv6.13.1//NONSGML v1.0//EN
CALSCALE:GREGORIAN
METHOD:PUBLISH
X-WR-CALNAME:SETA
X-ORIGINAL-URL:https://seta.edu.au
X-WR-CALDESC:Events for SETA
REFRESH-INTERVAL;VALUE=DURATION:PT1H
X-Robots-Tag:noindex
X-PUBLISHED-TTL:PT1H
BEGIN:VTIMEZONE
TZID:Australia/Melbourne
BEGIN:STANDARD
TZOFFSETFROM:+1100
TZOFFSETTO:+1000
TZNAME:AEST
DTSTART:20190406T160000
END:STANDARD
BEGIN:DAYLIGHT
TZOFFSETFROM:+1000
TZOFFSETTO:+1100
TZNAME:AEDT
DTSTART:20191005T160000
END:DAYLIGHT
END:VTIMEZONE
BEGIN:VEVENT
DTSTART;VALUE=DATE:20190707
DTEND;VALUE=DATE:20190711
DTSTAMP:20260426T105141
CREATED:20181106T231755Z
LAST-MODIFIED:20190325T000814Z
UID:346-1562457600-1562803199@seta.edu.au
SUMMARY:CONASTA 68 (NT)
DESCRIPTION:Please visit https://asta.eventsair.com/QuickEventWebsitePortal/conasta-68/event-home-page for more information
URL:https://seta.edu.au/event/conasta-68/
LOCATION:Darwin
CATEGORIES:Conferences,Laboratory Technicians
END:VEVENT
END:VCALENDAR