BEGIN:VCALENDAR
VERSION:2.0
PRODID:-//SETA - ECPv6.13.1//NONSGML v1.0//EN
CALSCALE:GREGORIAN
METHOD:PUBLISH
X-WR-CALNAME:SETA
X-ORIGINAL-URL:https://seta.edu.au
X-WR-CALDESC:Events for SETA
REFRESH-INTERVAL;VALUE=DURATION:PT1H
X-Robots-Tag:noindex
X-PUBLISHED-TTL:PT1H
BEGIN:VTIMEZONE
TZID:Australia/Melbourne
BEGIN:STANDARD
TZOFFSETFROM:+1100
TZOFFSETTO:+1000
TZNAME:AEST
DTSTART:20190406T160000
END:STANDARD
BEGIN:DAYLIGHT
TZOFFSETFROM:+1000
TZOFFSETTO:+1100
TZNAME:AEDT
DTSTART:20191005T160000
END:DAYLIGHT
END:VTIMEZONE
BEGIN:VEVENT
DTSTART;VALUE=DATE:20190819
DTEND;VALUE=DATE:20190824
DTSTAMP:20260426T093021
CREATED:20190723T234048Z
LAST-MODIFIED:20190729T061730Z
UID:426-1566172800-1566604799@seta.edu.au
SUMMARY:#STARWeek
DESCRIPTION:#STARweek 19-23rd August 2019 \nhttp://www.starweek.org.au/
URL:https://seta.edu.au/event/starweek/
LOCATION:Victoria
CATEGORIES:Conferences
END:VEVENT
END:VCALENDAR