BEGIN:VCALENDAR
VERSION:2.0
PRODID:-//SETA - ECPv6.13.1//NONSGML v1.0//EN
CALSCALE:GREGORIAN
METHOD:PUBLISH
X-WR-CALNAME:SETA
X-ORIGINAL-URL:https://seta.edu.au
X-WR-CALDESC:Events for SETA
REFRESH-INTERVAL;VALUE=DURATION:PT1H
X-Robots-Tag:noindex
X-PUBLISHED-TTL:PT1H
BEGIN:VTIMEZONE
TZID:Australia/Melbourne
BEGIN:STANDARD
TZOFFSETFROM:+1100
TZOFFSETTO:+1000
TZNAME:AEST
DTSTART:20190406T160000
END:STANDARD
BEGIN:DAYLIGHT
TZOFFSETFROM:+1000
TZOFFSETTO:+1100
TZNAME:AEDT
DTSTART:20191005T160000
END:DAYLIGHT
END:VTIMEZONE
BEGIN:VEVENT
DTSTART;VALUE=DATE:20190909
DTEND;VALUE=DATE:20190911
DTSTAMP:20260426T075513
CREATED:20190729T061556Z
LAST-MODIFIED:20190729T061703Z
UID:438-1567987200-1568159999@seta.edu.au
SUMMARY:ASET NSW Conference 2019
DESCRIPTION:Educating Science Technicians\n9/10 September at UTS Broadway (Sydney)\nKeynote Speaker – Dr Alice Gorman – Space Archeologist
URL:https://seta.edu.au/event/aset-nsw-conference-2019/
LOCATION:Victoria
CATEGORIES:Conferences
END:VEVENT
END:VCALENDAR