BEGIN:VCALENDAR
VERSION:2.0
PRODID:-//SETA - ECPv6.13.1//NONSGML v1.0//EN
CALSCALE:GREGORIAN
METHOD:PUBLISH
X-ORIGINAL-URL:https://seta.edu.au
X-WR-CALDESC:Events for SETA
REFRESH-INTERVAL;VALUE=DURATION:PT1H
X-Robots-Tag:noindex
X-PUBLISHED-TTL:PT1H
BEGIN:VTIMEZONE
TZID:Australia/Melbourne
BEGIN:STANDARD
TZOFFSETFROM:+1100
TZOFFSETTO:+1000
TZNAME:AEST
DTSTART:20210403T160000
END:STANDARD
BEGIN:DAYLIGHT
TZOFFSETFROM:+1000
TZOFFSETTO:+1100
TZNAME:AEDT
DTSTART:20211002T160000
END:DAYLIGHT
END:VTIMEZONE
BEGIN:VEVENT
DTSTART;VALUE=DATE:20211111
DTEND;VALUE=DATE:20211113
DTSTAMP:20260424T231436
CREATED:20210906T055726Z
LAST-MODIFIED:20210906T055726Z
UID:554-1636588800-1636761599@seta.edu.au
SUMMARY:LABCON
DESCRIPTION:Venue\nCrown Promenade\n8 Whiteman Street\, Southbank 3006 \nDates\nThursday November 11th and Friday November 12th 2021 \n\nlink : https://ltav.org.au/labcon-2021-details/
URL:https://seta.edu.au/event/labcon-2/
LOCATION:Victoria
CATEGORIES:Conferences
END:VEVENT
END:VCALENDAR