BEGIN:VCALENDAR
VERSION:2.0
PRODID:-//SETA - ECPv6.13.1//NONSGML v1.0//EN
CALSCALE:GREGORIAN
METHOD:PUBLISH
X-WR-CALNAME:SETA
X-ORIGINAL-URL:https://seta.edu.au
X-WR-CALDESC:Events for SETA
REFRESH-INTERVAL;VALUE=DURATION:PT1H
X-Robots-Tag:noindex
X-PUBLISHED-TTL:PT1H
BEGIN:VTIMEZONE
TZID:Australia/Melbourne
BEGIN:STANDARD
TZOFFSETFROM:+1100
TZOFFSETTO:+1000
TZNAME:AEST
DTSTART:20220402T160000
END:STANDARD
BEGIN:DAYLIGHT
TZOFFSETFROM:+1000
TZOFFSETTO:+1100
TZNAME:AEDT
DTSTART:20221001T160000
END:DAYLIGHT
END:VTIMEZONE
BEGIN:VEVENT
DTSTART;VALUE=DATE:20221031
DTEND;VALUE=DATE:20221102
DTSTAMP:20260424T074529
CREATED:20220828T234458Z
LAST-MODIFIED:20220828T234458Z
UID:605-1667174400-1667347199@seta.edu.au
SUMMARY:ASET 22
DESCRIPTION:ASET-NSW’s Annual Conference is back in 2022! The Conference will be held at the University of Technology Sydney (UTS) with access to public transport and local accommodation. \nhttps://asetnsw.org.au/events
URL:https://seta.edu.au/event/aset-22/
LOCATION:Victoria
CATEGORIES:Conferences,Laboratory Technicians
END:VEVENT
END:VCALENDAR