BEGIN:VCALENDAR
VERSION:2.0
PRODID:-//SETA - ECPv6.13.1//NONSGML v1.0//EN
CALSCALE:GREGORIAN
METHOD:PUBLISH
X-WR-CALNAME:SETA
X-ORIGINAL-URL:https://seta.edu.au
X-WR-CALDESC:Events for SETA
REFRESH-INTERVAL;VALUE=DURATION:PT1H
X-Robots-Tag:noindex
X-PUBLISHED-TTL:PT1H
BEGIN:VTIMEZONE
TZID:Australia/Melbourne
BEGIN:STANDARD
TZOFFSETFROM:+1100
TZOFFSETTO:+1000
TZNAME:AEST
DTSTART:20240406T160000
END:STANDARD
BEGIN:DAYLIGHT
TZOFFSETFROM:+1000
TZOFFSETTO:+1100
TZNAME:AEDT
DTSTART:20241005T160000
END:DAYLIGHT
END:VTIMEZONE
BEGIN:VEVENT
DTSTART;VALUE=DATE:20240707
DTEND;VALUE=DATE:20240712
DTSTAMP:20260423T054912
CREATED:20240124T050337Z
LAST-MODIFIED:20240710T002152Z
UID:669-1720310400-1720742399@seta.edu.au
SUMMARY:CONASTA 71
DESCRIPTION:Location: University of Melbourne Parkville \nLink:  https://stav.org.au/event/conasta-71-2024-melbourne/
URL:https://seta.edu.au/event/conasta-71/
LOCATION:Victoria
CATEGORIES:Conferences,Laboratory Technicians
END:VEVENT
END:VCALENDAR