BEGIN:VCALENDAR
VERSION:2.0
PRODID:-//SETA - ECPv6.13.1//NONSGML v1.0//EN
CALSCALE:GREGORIAN
METHOD:PUBLISH
X-ORIGINAL-URL:https://seta.edu.au
X-WR-CALDESC:Events for SETA
REFRESH-INTERVAL;VALUE=DURATION:PT1H
X-Robots-Tag:noindex
X-PUBLISHED-TTL:PT1H
BEGIN:VTIMEZONE
TZID:Australia/Melbourne
BEGIN:STANDARD
TZOFFSETFROM:+1100
TZOFFSETTO:+1000
TZNAME:AEST
DTSTART:20240406T160000
END:STANDARD
BEGIN:DAYLIGHT
TZOFFSETFROM:+1000
TZOFFSETTO:+1100
TZNAME:AEDT
DTSTART:20241005T160000
END:DAYLIGHT
END:VTIMEZONE
BEGIN:VEVENT
DTSTART;VALUE=DATE:20241114
DTEND;VALUE=DATE:20241116
DTSTAMP:20260423T005811
CREATED:20240710T002421Z
LAST-MODIFIED:20240710T002421Z
UID:690-1731542400-1731715199@seta.edu.au
SUMMARY:Labcon 2024
DESCRIPTION:Dates: 14-15 Nov \nLocation: Pullman Melbourne Albert Park\, 65 Queens Rd\, Victoria 3004 \nLink: https://ltav.org.au/
URL:https://seta.edu.au/event/labcon-2024/
LOCATION:Victoria
CATEGORIES:Conferences,Laboratory Technicians
END:VEVENT
END:VCALENDAR